BEGIN:VCALENDAR
VERSION:2.0
PRODID:-//ChamberMaster//Event Calendar 2.0//EN
METHOD:PUBLISH
X-PUBLISHED-TTL:P3D
REFRESH-INTERVAL:P3D
CALSCALE:GREGORIAN
BEGIN:VEVENT
DTSTART:20260602T163000Z
DTEND:20260602T180000Z
X-MICROSOFT-CDO-ALLDAYEVENT:FALSE
SUMMARY:Pillars of the Community to Honor James Marshall
DESCRIPTION:2026 POTC Award Luncheon\n\nThe Mequon-Thiensville Community Foundation (MTCF) is proud to announce that James (Jim) F. Marshall\, Chairman-Founder of Spectrum Investment Advisors\, has been selected as the 2026 Pillar of the Community Award recipient. Jim exemplifies what it means to be a true community pillar someone whose leadership\, generosity\, integrity\, and vision have strengthened Mequon and Thiensville for more than three decades. His entrepreneurial drive\, commitment to service\, and dedication to improving the lives of others have left an extraordinary and lasting mark in our communities\, and indeed\, throughout Ozaukee County.\n\n\n \n\nTo learn more about James Marshall visit www.mtcfgives.org/POTC\n\n\nThank you to our sponsors: Gentian Financial\, Inc.\; Port Washington State Bank\, Spectrum Investment Advisors\, Sommer's Automotive\, Richmond Investment Services\, Shaffer Development LLC\, and Crux Commercial Partners.
X-ALT-DESC;FMTTYPE=text/html:<div style="text-align:center">\n<h1 style="text-align: center\;"><strong><span style="font-family:arial\,helvetica\,sans-serif">2026 POTC Award Luncheon</span></strong></h1>\n\n<h3 style="text-align: center\;"><span style="font-family:arial\,helvetica\,sans-serif\; font-size:13px">The Mequon-Thiensville Community Foundation (MTCF) is proud to announce that </span><strong style="font-family:arial\,helvetica\,sans-serif\; font-size:13px">James (Jim) F. Marshall\, Chairman-Founder of Spectrum Investment Advisors</strong><span style="font-family:arial\,helvetica\,sans-serif\; font-size:13px">\, has been selected as the 2026 Pillar of the Community Award recipient. Jim exemplifies what it means to be a true community pillar&mdash\;someone whose leadership\, generosity\, integrity\, and vision have strengthened Mequon and Thiensville for more than three decades. His entrepreneurial drive\, commitment to service\, and dedication to improving the lives of others have left an extraordinary and lasting mark in our communities\, and indeed\, throughout Ozaukee County.</span></h3>\n</div>\n\n<div style="text-align: center\;">&nbsp\;</div>\n\n<h5 style="text-align: center\;"><span style="font-size:12px"><span style="font-family:montserrat\,-apple-system\,blinkmacsystemfont\,segoe ui\,roboto\,oxygen-sans\,ubuntu\,cantarell\,helvetica neue\,sans-serif"><span style="font-family:arial\,helvetica\,sans-serif">To learn more about James Marshall visit www.mtcfgives.org/POTC</span></span></span></h5>\n<br />\nThank you to our sponsors: Gentian Financial\, Inc.\; Port Washington State Bank\, Spectrum Investment Advisors\, Sommer&#39\;s Automotive\, Richmond Investment Services\, Shaffer Development LLC\, and Crux Commercial Partners.
LOCATION:River Club of Mequon 12400 N Ville Du Parc Drive Mequon\, Wisconsin
UID:e.153.13983
SEQUENCE:3
DTSTAMP:20260423T225652Z
URL:https://www.mtchamber.org/events/details/pillars-of-the-community-13983
END:VEVENT

END:VCALENDAR
