BEGIN:VCALENDAR
VERSION:2.0
PRODID:-//ChamberMaster//Event Calendar 2.0//EN
METHOD:PUBLISH
X-PUBLISHED-TTL:P3D
REFRESH-INTERVAL:P3D
CALSCALE:GREGORIAN
BEGIN:VEVENT
DTSTART:20251022T163000Z
DTEND:20251022T180000Z
X-MICROSOFT-CDO-ALLDAYEVENT:FALSE
SUMMARY:ONCE NETWORKING LUNCHEON OCTOBER 22\, 2025
DESCRIPTION:ONCE NETWORKING LUNCHEON \n\nThis is an opportunity to network\, generate business and build a referral base with members of the Mequon-Thiensville\, Belgium\, Cedarburg and Grafton Chambers of Commerce. The meeting format includes time for networking and each participant to give a 30-second self-introduction and brief business overview.\n\n\n\nBring your business cards and any business materials or flyers you would like to set out on the information table.
X-ALT-DESC;FMTTYPE=text/html:<div><span style="font-size: 14px\;"><span style="font-size:16px\;"><strong>ONCE NETWORKING LUNCHEON&nbsp\;</strong></span><br />\nThis is an opportunity to&nbsp\;network\,&nbsp\;generate&nbsp\;business and build a referral base with members of the Mequon-Thiensville\, Belgium\, Cedarburg and Grafton Chambers of Commerce. The meeting format&nbsp\;includes time for networking and each participant to give a 30-second self-introduction and brief business overview.</span><br />\n<br />\nBring&nbsp\;your business cards and any business materials or flyers you would like to set out on the information table.</div>\n
LOCATION:Cedarburg Cultural Center W62N546 Washington Ave.\, Cedarburg
UID:e.153.15286
SEQUENCE:3
DTSTAMP:20260421T083742Z
URL:https://www.mtchamber.org/events/details/once-networking-luncheon-october-22-2025-15286
END:VEVENT

END:VCALENDAR
