BEGIN:VCALENDAR
VERSION:2.0
PRODID:-//ChamberMaster//Event Calendar 2.0//EN
METHOD:PUBLISH
X-PUBLISHED-TTL:P3D
REFRESH-INTERVAL:P3D
CALSCALE:GREGORIAN
BEGIN:VEVENT
DTSTART:20190205T133000Z
DTEND:20190205T143000Z
X-MICROSOFT-CDO-ALLDAYEVENT:FALSE
SUMMARY:Local Government Relations Meeting
DESCRIPTION:Mequon-Thiensville Community Promenade\n\n \n\nOur February Mequon-Thiensville Government Relations will feature Sandy Custer and Connie Pukaite who are helping lead the planning and fundraising efforts for the Mequon-Thiensville Community Promenade on the northeast corner of Cedarburg and Mequon Road. The design serves as identification of a point of arrival into a special and distinct neighborhood that is the heart of two communities. The promenade enhances the entry point to the Town Center and Historic Main Street and is a public feature meant to:\n\n- Announce arrival at a special place\n\n- Activate the riverfront\n\n- Serve as a public amenity\n\n- Promote history and art of the community\n\n- Celebrate the vitality and new growth at the heart of the communitiesYou're invited to learn more about the Mequon-Thiensville Community Promenade design\, planning and fundraising.
X-ALT-DESC;FMTTYPE=text/html:Mequon-Thiensville Community Promenade<br />\n&nbsp\;<br />\nOur February Mequon-Thiensville Government Relations will feature Sandy Custer and Connie Pukaite who are helping lead the planning and fundraising efforts for the Mequon-Thiensville Community Promenade on the northeast corner of Cedarburg and Mequon Road.&nbsp\;The design serves as identification of a point of arrival into a special and distinct neighborhood that is the heart of two communities. The promenade enhances the entry point to the Town Center and Historic Main Street and is a public feature meant to:<br />\n- Announce arrival at a special place<br />\n- Activate the riverfront<br />\n- Serve as a public amenity<br />\n- Promote history and art of the community<br />\n- Celebrate the vitality and new growth at the heart of the communitiesYou&rsquo\;re invited to learn more about the Mequon-Thiensville Community Promenade design\, planning and fundraising.&nbsp\;
LOCATION:Schmidt & Bartelt Funeral Services Conference Room 10280 N. Port Washington Road (north side entrance)
UID:e.153.5007
SEQUENCE:3
DTSTAMP:20260421T095902Z
URL:https://www.mtchamber.org/events/details/local-government-relations-meeting-02-05-2019-5007
END:VEVENT

END:VCALENDAR
