BEGIN:VCALENDAR
VERSION:2.0
PRODID:-//ChamberMaster//Event Calendar 2.0//EN
METHOD:PUBLISH
X-PUBLISHED-TTL:P3D
REFRESH-INTERVAL:P3D
CALSCALE:GREGORIAN
BEGIN:VEVENT
DTSTART:20210704T150000Z
DTEND:20210704T210000Z
X-MICROSOFT-CDO-ALLDAYEVENT:FALSE
SUMMARY:Freistadt Fourth
DESCRIPTION:In 1845\, not long after the settlers had arrived in this area and founded what is now Trinity Lutheran Church - Freistadt\, the pastor decreed the Fourth of July should always be celebrated to honor the religious freedom they were enjoying.  The church\, at the corner of Freistadt and Granville Rds.\, has kept that tradition. This year's celebration includes:\n\n \n\n10:00   11:00 Outdoor Patriotic Church Service \n\n11:00   12:30 Picnic Food\, Entertainment by the Freistadt \nAlte Kameraden Band and Pommersche Tanzdeel\n\nChildren's Activities \n\nHistorical Site   all 12 buildings open to tour \n1:00   1:30     Parade\, with Flag Raising Ceremony to follow\n\n1:30   4:00     Picnic continues as described above\n\nPerennial Plant Sale at Historical Grounds
X-ALT-DESC;FMTTYPE=text/html:<span style="font-size:14.0pt">In 1845\, not long after the settlers had arrived in this area and founded what is now Trinity Lutheran Church - Freistadt\, the pastor decreed the Fourth of July should always be celebrated to honor the religious freedom they were enjoying.&nbsp\; The church\, at the corner of Freistadt and Granville Rds.\, has kept that tradition. This year&rsquo\;s celebration includes:</span><br />\n&nbsp\;<br />\n<span style="font-size:14.0pt">10:00 &ndash\; 11:00 Outdoor Patriotic Church Service </span><br />\n<span style="font-size:14.0pt">11:00 &ndash\; 12:30 Picnic Food\, Entertainment by the Freistadt </span>\n<div style="margin-left:120px"><span style="font-size:14.0pt">Alte Kameraden Band and Pommersche Tanzdeel</span></div>\n\n<div style="margin-left:120px"><span style="font-size:14.0pt">Children&rsquo\;s Activities </span></div>\n\n<div style="margin-left:120px"><span style="font-size:14.0pt">Historical Site &ndash\; all 12 buildings open to tour </span></div>\n<span style="font-size:14.0pt">1:00 &ndash\; 1:30&nbsp\; &nbsp\; &nbsp\;Parade\, with Flag Raising Ceremony to follow</span><br />\n<span style="font-size:14.0pt">1:30 &ndash\; 4:00&nbsp\;&nbsp\;&nbsp\;&nbsp\; Picnic continues as described above</span>\n\n<div style="margin-left:120px"><span style="font-size:14.0pt">Perennial Plant Sale at Historical Grounds</span></div>\n
LOCATION:Trinity Ev. Lutheran Church of Freistadt 10729 West Freistadt Road Mequon\, WI 53097
UID:e.153.11193
SEQUENCE:3
DTSTAMP:20260421T154614Z
URL:https://www.mtchamber.org/events/details/freistadt-fourth-11193
END:VEVENT

END:VCALENDAR
