BEGIN:VCALENDAR
VERSION:2.0
PRODID:-//ChamberMaster//Event Calendar 2.0//EN
METHOD:PUBLISH
X-PUBLISHED-TTL:P3D
REFRESH-INTERVAL:P3D
CALSCALE:GREGORIAN
BEGIN:VEVENT
DTSTART:20260407T223000Z
DTEND:20260408T000000Z
X-MICROSOFT-CDO-ALLDAYEVENT:FALSE
SUMMARY:Estate Planning Workshop
DESCRIPTION:Overview\n\n\n\n\nJoin us in person to learn how to secure your family's future with simple estate planning tips!\n\n\n\nEstate Planning Workshop\n\nJoin us in person for a laid-back\, informative Estate Planning Workshop! Whether you're just starting out or looking to update your plans\, this is a great chance to get the lowdown on wills\, trusts\, and everything in between. Bring your questions and get ready to chat with experts who make estate planning easy and approachable. Don't miss out on securing your future in a fun\, friendly setting!\n\nUse the link below to sign up for the event: \n\nhttps://www.eventbrite.com/e/1984883615325?aff=oddtdtcreator
X-ALT-DESC;FMTTYPE=text/html:<div>\n<h2>Overview</h2>\n</div>\n\n<div>\n<div>\n<div>Join us in person to learn how to secure your family&rsquo\;s future with simple estate planning tips!</div>\n</div>\n\n<div>\n<h2>Estate Planning Workshop</h2>\n\n<p>Join us&nbsp\;in person&nbsp\;for a laid-back\, informative&nbsp\;Estate Planning Workshop! Whether you&#39\;re just starting out or looking to update your plans\, this is a great chance to get the lowdown on wills\, trusts\, and everything in between. Bring your questions and get ready to chat with experts who make estate planning easy and approachable. Don&#39\;t miss out on securing your future in a fun\, friendly setting!<br />\nUse the link below to sign up for the event:&nbsp\;<br />\nhttps://www.eventbrite.com/e/1984883615325?aff=oddtdtcreator</p>\n</div>\n</div>\n
LOCATION:Hildebrand Law Firm LLC 500 West Silver Spring Drive #Ste K-300 Milwaukee\, WI 53217
UID:e.153.15447
SEQUENCE:3
DTSTAMP:20260425T115617Z
URL:https://www.mtchamber.org/events/details/estate-planning-workshop-15447
END:VEVENT

END:VCALENDAR
