BEGIN:VCALENDAR
VERSION:2.0
PRODID:-//ChamberMaster//Event Calendar 2.0//EN
METHOD:PUBLISH
X-PUBLISHED-TTL:P3D
REFRESH-INTERVAL:P3D
CALSCALE:GREGORIAN
BEGIN:VEVENT
DTSTART:20260501T120000Z
DTEND:20260501T180000Z
X-MICROSOFT-CDO-ALLDAYEVENT:FALSE
SUMMARY:Community Blood Drive at City Hall
DESCRIPTION:Mequon City Hall will hold a Community Blood Drive on Friday\, May 1. Appointments are available between 7:00 a.m. and 1:00 p.m. at City Hall in the Christine Nuernberg Hall (Common Council Chambers). Visitors can enter through the doors facing Cedarburg Road or the rear door to the building and take the elevator to the 1st floor.\n\nSign-up Information: https://donate.wisconsin.versiti.org/donor/schedules/drive_schedule/252745 \n\nHosted by Versiti Blood Center of Wisconsin
X-ALT-DESC;FMTTYPE=text/html:<p>Mequon City Hall will hold a Community Blood Drive on Friday\, May 1. Appointments are available between 7:00 a.m. and 1:00 p.m. at City Hall in the Christine Nuernberg Hall (Common Council Chambers). Visitors can enter through the doors facing Cedarburg Road or the rear door to the building and take the elevator to the 1st floor.</p>\n\n<p>Sign-up Information:&nbsp\;<a class="ext" href="https://donate.wisconsin.versiti.org/donor/schedules/drive_schedule/252745" rel="noopener noreferrer" style="box-sizing: inherit\; background-color: transparent\; text-decoration: none\; color: rgb(6\, 69\, 173)\;" target="_blank" title="(opens in a new window)">https://donate.wisconsin.versiti.org/donor/schedules/drive_schedule/252745&nbsp\;</a></p>\n\n<p>Hosted by&nbsp\;<a class="ext" href="https://www.versiti.org/ways-to-give/our-communities/wisconsin" rel="noopener noreferrer" style="box-sizing: inherit\; background-color: transparent\; text-decoration: none\; color: rgb(6\, 69\, 173)\;" target="_blank" title="(opens in a new window)">Versiti Blood Center of Wisconsin</a></p>\n
LOCATION:11333 N. Cedarburg Road\, Mequon\, WI 53092
UID:e.153.15471
SEQUENCE:3
DTSTAMP:20260421T095515Z
URL:https://www.mtchamber.org/events/details/community-blood-drive-at-city-hall-15471
END:VEVENT

END:VCALENDAR
