BEGIN:VCALENDAR
VERSION:2.0
PRODID:-//ChamberMaster//Event Calendar 2.0//EN
METHOD:PUBLISH
X-PUBLISHED-TTL:P3D
REFRESH-INTERVAL:P3D
CALSCALE:GREGORIAN
BEGIN:VEVENT
DTSTART:20260422T210000Z
DTEND:20260422T223000Z
X-MICROSOFT-CDO-ALLDAYEVENT:FALSE
SUMMARY:Better Together Widows Group
DESCRIPTION:The Better Together Widows Group will meet monthly to provide a safe\, supportive space for widows to connect\, reflect\, and build friendships\n\n\n\n\n\nBetter Together Widows Group\n\nThe Better Together Widows Group will meet monthly to provide a safe\, supportive space for widows to connect\, reflect\, and build friendships. This group is about community\, understanding\, and mutual support for women of all ages no pressure\, just connection. Join us for our meetings at 500 W. Silver Spring Drive\, Suite K-300\, Milwaukee\, WI 53217.\n\n\n\nRegister Here: https://www.eventbrite.com/e/1982708956863?aff=oddtdtcreator
X-ALT-DESC;FMTTYPE=text/html:<div>&nbsp\;</div>\n\n<div>&nbsp\;</div>\n\n<div>\n<div>\n<div>\n<p>The Better Together Widows Group will meet monthly to provide a safe\, supportive space for widows to connect\, reflect\, and build friendships</p>\n</div>\n</div>\n\n<div>\n<div>\n<h2>Better Together Widows Group</h2>\n\n<p>The Better Together Widows Group will meet monthly to provide a safe\, supportive space for widows to connect\, reflect\, and build friendships. This group is about community\, understanding\, and mutual support for women of all ages&mdash\;no pressure\, just connection. Join us for our meetings at 500 W. Silver Spring Drive\, Suite K-300\, Milwaukee\, WI 53217.<br />\n<br />\nRegister Here:&nbsp\;https://www.eventbrite.com/e/1982708956863?aff=oddtdtcreator</p>\n</div>\n</div>\n</div>\n
LOCATION:Hildebrand Law Firm LLC 500 West Silver Spring Drive #Ste K-300 Milwaukee\, WI 53217
UID:e.153.15446
SEQUENCE:3
DTSTAMP:20260424T115105Z
URL:https://www.mtchamber.org/events/details/better-together-widows-group-04-22-2026-15446
END:VEVENT

END:VCALENDAR
