BEGIN:VCALENDAR
VERSION:2.0
PRODID:-//ChamberMaster//Event Calendar 2.0//EN
METHOD:PUBLISH
X-PUBLISHED-TTL:P3D
REFRESH-INTERVAL:P3D
CALSCALE:GREGORIAN
BEGIN:VEVENT
DTSTART:20260414T124500Z
DTEND:20260414T140000Z
X-MICROSOFT-CDO-ALLDAYEVENT:FALSE
SUMMARY:2026 Ozaukee Business Leaders Series Part 2 of 4
DESCRIPTION:Level up your leadership and energize your team. This dynamic four-part series strengthens communication\, sharpens emotional intelligence\, and builds the confidence you need to step boldly into new leadership roles. Whether you are an emerging leader or ready for your next challenge\, this program delivers practical tools you can use right away. Take the next step in your leadership journey and invest in your growth.\n\nPricing:\n\n  Individual sessions: $30 per session ($25 for Chamber Members)\n\n  Light continental breakfast included with registration
X-ALT-DESC;FMTTYPE=text/html:<p data-end="498" data-start="79">Level up your leadership and energize your team. This dynamic four-part series strengthens communication\, sharpens emotional intelligence\, and builds the confidence you need to step boldly into new leadership roles. Whether you are an emerging leader or ready for your next challenge\, this program delivers practical tools you can use right away. Take the next step in your leadership journey and invest in your growth.</p>\n\n<p data-end="688" data-start="500"><strong data-end="512" data-start="500">Pricing:</strong><br data-end="515" data-start="512" />\n&bull\; Individual sessions: $30 per session ($25 for Chamber Members)<br data-end="582" data-start="579" />\n&bull\; Light continental breakfast included with registration</p>\n
LOCATION:Kacmarcik Center for Human Performance 885 Badger Circle\, Grafton
UID:e.153.15425
SEQUENCE:3
DTSTAMP:20260421T113115Z
URL:https://www.mtchamber.org/events/details/2026-ozaukee-business-leaders-series-part-2-of-4-15425
END:VEVENT

END:VCALENDAR
